BEGIN:VCALENDAR
VERSION:2.0
PRODID:-//Springfield Preservation Trust - ECPv6.3.7//NONSGML v1.0//EN
CALSCALE:GREGORIAN
METHOD:PUBLISH
X-ORIGINAL-URL:https://springfieldpreservation.org
X-WR-CALDESC:Events for Springfield Preservation Trust
REFRESH-INTERVAL;VALUE=DURATION:PT1H
X-Robots-Tag:noindex
X-PUBLISHED-TTL:PT1H
BEGIN:VTIMEZONE
TZID:UTC
BEGIN:STANDARD
TZOFFSETFROM:+0000
TZOFFSETTO:+0000
TZNAME:UTC
DTSTART:20220101T000000
END:STANDARD
END:VTIMEZONE
BEGIN:VEVENT
DTSTART;TZID=UTC:20220217T190000
DTEND;TZID=UTC:20220217T200000
DTSTAMP:20260423T180301
CREATED:20220209T164330Z
LAST-MODIFIED:20230211T185105Z
UID:3105-1645124400-1645128000@springfieldpreservation.org
SUMMARY:Window Workshop with Pam Howland
DESCRIPTION:Pam Howland will lead a virtual lecture on February 17 at 7pm about window restoration.  For the past 13 years Pam Howland has been teaching women from Springfield to restore old windows.  During COVID 19 she had to shut down the workshop in the South End and explore a more individual self-directed model of work.  For the love of old growth wood and mouth-blown glass\, she continues to seek opportunities to teach men and women the skills of window restoration.  To watch the program please go to the Springfield Preservation Trust Facebook page on February 17 at 7pm.
URL:https://springfieldpreservation.org/eventandtour/window-workshop-with-pam-howland/
CATEGORIES:Virtual Lecture
ATTACH;FMTTYPE=image/jpeg:https://springfieldpreservation.org/wp-content/uploads/2022/02/Pam-Howlandfeb17.jpg
END:VEVENT
END:VCALENDAR