BEGIN:VCALENDAR
VERSION:2.0
PRODID:-//Springfield Preservation Trust - ECPv6.3.7//NONSGML v1.0//EN
CALSCALE:GREGORIAN
METHOD:PUBLISH
X-WR-CALNAME:Springfield Preservation Trust
X-ORIGINAL-URL:https://springfieldpreservation.org
X-WR-CALDESC:Events for Springfield Preservation Trust
REFRESH-INTERVAL;VALUE=DURATION:PT1H
X-Robots-Tag:noindex
X-PUBLISHED-TTL:PT1H
BEGIN:VTIMEZONE
TZID:UTC
BEGIN:STANDARD
TZOFFSETFROM:+0000
TZOFFSETTO:+0000
TZNAME:UTC
DTSTART:20260101T000000
END:STANDARD
END:VTIMEZONE
BEGIN:VEVENT
DTSTART;TZID=UTC:20260110T100000
DTEND;TZID=UTC:20260111T170000
DTSTAMP:20260422T025805
CREATED:20251216T142147Z
LAST-MODIFIED:20251216T142147Z
UID:4877-1768039200-1768150800@springfieldpreservation.org
SUMMARY:Free Springfield Museums Admissions for SPT Weekend
DESCRIPTION:Free admissions to the Springfield Museums is available to all Springfield Preservation Trust members on Saturday\, January 10th and Sunday\, January 11th. Visit the Museums during “SPT Weekend” to take advantage of free admissions to all five museums on campus!\nWhile you’re there\, visit the Springfield Preservation Trust exhibit at the Wood Museum of Springfield History. 
URL:https://springfieldpreservation.org/eventandtour/free-springfield-museums-admissions-for-spt-weekend/
LOCATION:Springfield Museums\, 21 Edwards Street\, Springfield\, MA\, 01103\, United States
CATEGORIES:Advocacy
ATTACH;FMTTYPE=image/jpeg:https://springfieldpreservation.org/wp-content/uploads/2025/12/596957583_1330514992442642_8274770971783471032_n.jpg
END:VEVENT
END:VCALENDAR