BEGIN:VCALENDAR
VERSION:2.0
PRODID:-//Springfield Preservation Trust - ECPv6.3.7//NONSGML v1.0//EN
CALSCALE:GREGORIAN
METHOD:PUBLISH
X-WR-CALNAME:Springfield Preservation Trust
X-ORIGINAL-URL:https://springfieldpreservation.org
X-WR-CALDESC:Events for Springfield Preservation Trust
REFRESH-INTERVAL;VALUE=DURATION:PT1H
X-Robots-Tag:noindex
X-PUBLISHED-TTL:PT1H
BEGIN:VTIMEZONE
TZID:UTC
BEGIN:STANDARD
TZOFFSETFROM:+0000
TZOFFSETTO:+0000
TZNAME:UTC
DTSTART:20220101T000000
END:STANDARD
END:VTIMEZONE
BEGIN:VEVENT
DTSTART;TZID=UTC:20221016T130000
DTEND;TZID=UTC:20221016T140000
DTSTAMP:20260423T161858
CREATED:20220915T153157Z
LAST-MODIFIED:20230211T183716Z
UID:3231-1665925200-1665928800@springfieldpreservation.org
SUMMARY:"Voices from the Grave" Cemetery Tour 2022
DESCRIPTION:The Springfield Preservation Trust’s 9th historic cemetery tour\, “Voices from the Grave” will take place at Springfield Cemetery on Sunday\, October 16\, 2022.  On October 16\, groups led by docents will visit graves of interesting cemetery residents where costumed interpreters will speak about that person. Hour-long walking tours will depart every fifteen minutes starting at 1:00PM at Springfield Cemetery\, 171 Maple Street.  The last tour will be at 2:00 PM.  Members of Trust will purchase a ticket for $12\, and non-members will purchase a ticket for $15. Please buy online tickets here Voices From The Grave: Cemetery tours 2022 – Springfield Preservation Trust as available till October 15.  Then if any spots are available on October 16 it is first come first serve at Springfield Cemetery. \nThis year we are concentrating our efforts in the area of the cemetery that has some of the oldest graves.  The graves along Pine Street (many with monuments carved in brownstone) were originally located downtown\, between the Old First Church and the Connecticut River.  Railroad construction in that area required the removal of over 500 graves to the new cemetery off of Maple Street.
URL:https://springfieldpreservation.org/eventandtour/voices-from-the-grave/
LOCATION:MA
CATEGORIES:Walking Tour
ATTACH;FMTTYPE=image/jpeg:https://springfieldpreservation.org/wp-content/uploads/2022/09/2021cemtour-e1663187309445.jpg
END:VEVENT
END:VCALENDAR