BEGIN:VCALENDAR
VERSION:2.0
PRODID:-//Springfield Preservation Trust - ECPv6.3.7//NONSGML v1.0//EN
CALSCALE:GREGORIAN
METHOD:PUBLISH
X-WR-CALNAME:Springfield Preservation Trust
X-ORIGINAL-URL:https://springfieldpreservation.org
X-WR-CALDESC:Events for Springfield Preservation Trust
REFRESH-INTERVAL;VALUE=DURATION:PT1H
X-Robots-Tag:noindex
X-PUBLISHED-TTL:PT1H
BEGIN:VTIMEZONE
TZID:UTC
BEGIN:STANDARD
TZOFFSETFROM:+0000
TZOFFSETTO:+0000
TZNAME:UTC
DTSTART:20230101T000000
END:STANDARD
END:VTIMEZONE
BEGIN:VEVENT
DTSTART;TZID=UTC:20230909T103000
DTEND;TZID=UTC:20230909T120000
DTSTAMP:20260420T233545
CREATED:20230909T015858Z
LAST-MODIFIED:20230812T021109Z
UID:3635-1694255400-1694260800@springfieldpreservation.org
SUMMARY:Forest Park Heights Historic District: Second Saturday Walking Tour
DESCRIPTION:Join local historian Derek Strahan on a walking tour of the Forest Park Heights Historic District neighborhood. The tour will focus on the homes on the southern side of Sumner Avenue\, with an emphasis on the variety of architectural styles within the neighborhood. The tour will begin at 10:30 a.m. on Sept. 9  at the Florentine Gardens circle\, and will last approximately 1.5 hours. The tour route is about 1.5 miles in length\, on mostly level ground.\n\nOn-street parking is available on the neighborhood streets. Please be sure to not block driveways or fire hydrants.\n\n\nThe Second Saturday Walking Tour series is co-presented by the Springfield Preservation Trust and Springfield Museums and is sponsored by a grant from the Springfield Cultural Council and the Massachusetts Cultural Council.
URL:https://springfieldpreservation.org/eventandtour/forest-park-heights-historic-district-second-saturday-walking-tour/
LOCATION:MA
CATEGORIES:Walking Tour
ATTACH;FMTTYPE=image/jpeg:https://springfieldpreservation.org/wp-content/uploads/2023/08/Forest-Park-Springfield-MA1-scaled.jpg
END:VEVENT
END:VCALENDAR