BEGIN:VCALENDAR
VERSION:2.0
PRODID:-//Springfield Preservation Trust - ECPv6.3.7//NONSGML v1.0//EN
CALSCALE:GREGORIAN
METHOD:PUBLISH
X-ORIGINAL-URL:https://springfieldpreservation.org
X-WR-CALDESC:Events for Springfield Preservation Trust
REFRESH-INTERVAL;VALUE=DURATION:PT1H
X-Robots-Tag:noindex
X-PUBLISHED-TTL:PT1H
BEGIN:VTIMEZONE
TZID:UTC
BEGIN:STANDARD
TZOFFSETFROM:+0000
TZOFFSETTO:+0000
TZNAME:UTC
DTSTART:20220101T000000
END:STANDARD
END:VTIMEZONE
BEGIN:VEVENT
DTSTART;TZID=UTC:20220216T000000
DTEND;TZID=UTC:20220216T000000
DTSTAMP:20260423T163507
CREATED:20220202T214640Z
LAST-MODIFIED:20230211T185228Z
UID:3001-1644969600-1644969600@springfieldpreservation.org
SUMMARY:Springfield Preservation Trust Board Meeting
DESCRIPTION:Monthly meetings of the Springfield Preservation Trust are held on the 3rd Wednesday of each month at 6 PM virtually through Zoom.  Please email info@springfieldpreservation.org two days before the meeting if you are a member who wants to attend.  All Trust members are welcome.
URL:https://springfieldpreservation.org/eventandtour/springfield-preservation-trust-board-meeting/
ATTACH;FMTTYPE=image/jpeg:https://springfieldpreservation.org/wp-content/uploads/2021/01/large-graphic.jpg
END:VEVENT
BEGIN:VEVENT
DTSTART;TZID=UTC:20220217T190000
DTEND;TZID=UTC:20220217T200000
DTSTAMP:20260423T163507
CREATED:20220209T164330Z
LAST-MODIFIED:20230211T185105Z
UID:3105-1645124400-1645128000@springfieldpreservation.org
SUMMARY:Window Workshop with Pam Howland
DESCRIPTION:Pam Howland will lead a virtual lecture on February 17 at 7pm about window restoration.  For the past 13 years Pam Howland has been teaching women from Springfield to restore old windows.  During COVID 19 she had to shut down the workshop in the South End and explore a more individual self-directed model of work.  For the love of old growth wood and mouth-blown glass\, she continues to seek opportunities to teach men and women the skills of window restoration.  To watch the program please go to the Springfield Preservation Trust Facebook page on February 17 at 7pm.
URL:https://springfieldpreservation.org/eventandtour/window-workshop-with-pam-howland/
CATEGORIES:Virtual Lecture
ATTACH;FMTTYPE=image/jpeg:https://springfieldpreservation.org/wp-content/uploads/2022/02/Pam-Howlandfeb17.jpg
END:VEVENT
BEGIN:VEVENT
DTSTART;TZID=UTC:20220227T130000
DTEND;TZID=UTC:20220227T143000
DTSTAMP:20260423T163507
CREATED:20220116T214114Z
LAST-MODIFIED:20230211T185055Z
UID:3082-1645966800-1645972200@springfieldpreservation.org
SUMMARY:Annual Meeting 2022 | Springfield Preservation Trust
DESCRIPTION:Currently due to Covid-19 Springfield Preservation Trust will hold its annual meeting virtually again this year. It will be held on February 27 at 1pm.  The meeting will be open to SPT members and the general public. The annual meeting will feature an overview of the past year\, election of the board\, and announcement of the 2022 Most Endangered List. \nFollowing the meeting will be a 20-minute lecture by the Senior Project Director Lauren Canepari.  She will be discussing the Court Square Building redevelopment project on 13-21 Elm Court. \nFor this event we will need people to pre-register so please email info@springfieldpreservation.org by February 24.  Then the day of the event you will receive an email in order to attend the meeting.  Covid-19 is changing the format\, but by being virtual you will enjoy the event from the luxury of your home.  Also\, if you pre-register by February 20 you will receive a surprise from the Trust.  Also\, it will be broadcast to Facebook Live on our Springfield Preservation Trust Facebook page. \n 
URL:https://springfieldpreservation.org/eventandtour/2022-annual-meeting-on-february-27/
CATEGORIES:Annual Meeting
ATTACH;FMTTYPE=image/jpeg:https://springfieldpreservation.org/wp-content/uploads/2022/01/31-elmsst-scaled.jpg
END:VEVENT
END:VCALENDAR