BEGIN:VCALENDAR
VERSION:2.0
PRODID:-//Springfield Preservation Trust - ECPv6.3.7//NONSGML v1.0//EN
CALSCALE:GREGORIAN
METHOD:PUBLISH
X-ORIGINAL-URL:https://springfieldpreservation.org
X-WR-CALDESC:Events for Springfield Preservation Trust
REFRESH-INTERVAL;VALUE=DURATION:PT1H
X-Robots-Tag:noindex
X-PUBLISHED-TTL:PT1H
BEGIN:VTIMEZONE
TZID:UTC
BEGIN:STANDARD
TZOFFSETFROM:+0000
TZOFFSETTO:+0000
TZNAME:UTC
DTSTART:20220101T000000
END:STANDARD
END:VTIMEZONE
BEGIN:VEVENT
DTSTART;TZID=UTC:20220324T190000
DTEND;TZID=UTC:20220324T200000
DTSTAMP:20260423T163413
CREATED:20220323T173129Z
LAST-MODIFIED:20230211T185014Z
UID:3118-1648148400-1648152000@springfieldpreservation.org
SUMMARY:"Demystifying Historic Preservation" Virtual Lecture
DESCRIPTION:The third virtual lecture will be by Raipher Pellegrino. Attorney Pellegrino has a long history of redeveloping and repurposing older structures often of historical significance. He has renovated numerous residential properties in Springfield. His lecture will explore Springfield examples of historic preservation. To watch the program please go to the Springfield Preservation Facebook page March 24 on Facebook Live at 7pm. Learn more about SPT on our website https://springfieldpreservation.org. \nThank you for your support and stay safe. We look forward to seeing you Thursday night for the program!
URL:https://springfieldpreservation.org/eventandtour/demystifying-historic-preservation/
CATEGORIES:Virtual Lecture
ATTACH;FMTTYPE=image/jpeg:https://springfieldpreservation.org/wp-content/uploads/2022/01/Raipher1-scaled.jpg
END:VEVENT
END:VCALENDAR