BEGIN:VCALENDAR
VERSION:2.0
PRODID:-//Springfield Preservation Trust - ECPv6.3.7//NONSGML v1.0//EN
CALSCALE:GREGORIAN
METHOD:PUBLISH
X-ORIGINAL-URL:https://springfieldpreservation.org
X-WR-CALDESC:Events for Springfield Preservation Trust
REFRESH-INTERVAL;VALUE=DURATION:PT1H
X-Robots-Tag:noindex
X-PUBLISHED-TTL:PT1H
BEGIN:VTIMEZONE
TZID:UTC
BEGIN:STANDARD
TZOFFSETFROM:+0000
TZOFFSETTO:+0000
TZNAME:UTC
DTSTART:20260101T000000
END:STANDARD
END:VTIMEZONE
BEGIN:VEVENT
DTSTART;TZID=UTC:20260301T130000
DTEND;TZID=UTC:20260301T150000
DTSTAMP:20260425T231751
CREATED:20260219T215632Z
LAST-MODIFIED:20260219T215632Z
UID:4942-1772370000-1772377200@springfieldpreservation.org
SUMMARY:SPT Annual Meeting
DESCRIPTION:Join the Springfield Preservation Trust\, on March 1st at 1:00pm\, for the SPT Annual Meeting\, at Christ Church Cathedral\, at 35 Chestnut Street.\n\nThe 2026 Annual Meeting will feature an overview of the past year\, the election of the board of directors\, the release of the 2025 Annual Report\, a look at the year to come\, a Community Preservation Act update\, and announcement of the 2026 Most Endangered Historic Resources List.\n\nThe meeting will conclude with a brief development update by guest keynote speaker Steve Jablonski\, Principal Architect of Jablonski DeVriese Architects\, architect for 7-9 Stockbridge Street. The meeting will be open to SPT members and the public.\n\nProgramming will include: – Election of the 2026 Board of Directors– Introduction of the 2026 Most Endangered Historic Resources List– The Year in Review– The Year Ahead– A brief development update by Steve Jablonski\, Principal Architect of Jablonski DeVriese Architects\, architect for 7-9 Stockbridge Street.\n\nProgramming is expected to last about 75 minutes.\n\nPlease email info@springfieldpreservation.org to reserve your spot(s) by February 26th.\n\n\nParking \nParking will be available at Christ Church Cathedral\, Springfield Museums\, and street parking on Chestnut Street.
URL:https://springfieldpreservation.org/eventandtour/spt-annual-meeting/
LOCATION:Christ Church Cathedral\, 35 Chestnut Street\, Springfield\, MA\, United States
ATTACH;FMTTYPE=image/jpeg:https://springfieldpreservation.org/wp-content/uploads/2026/02/chestnutstimg172.jpg
END:VEVENT
BEGIN:VEVENT
DTSTART;TZID=UTC:20260319T190000
DTEND;TZID=UTC:20260319T203000
DTSTAMP:20260425T231751
CREATED:20251216T171147Z
LAST-MODIFIED:20251216T174410Z
UID:4889-1773946800-1773952200@springfieldpreservation.org
SUMMARY:Trailblazers in Care: Women in Medicine and Public Health in Springfield
DESCRIPTION:Trailblazers in Care: Women in Medicine and Public Health in Springfield \n\nJoin us for a fascinating program exploring the stories of pioneering women who reshaped medicine and public health in Western MA.\n\n\n\nThis Women’s History Month\, join us for a fascinating program exploring the stories of pioneering women who reshaped medicine and public health in Springfield and Western Massachusetts. \nLearn about Dr. Seraph Frissell\, one of the first women admitted to the Massachusetts Medical Society and a Springfield physician whose medical writings challenged convention\, and Dr. Mary Phylinda Dole\, a trailblazing “country doctor” who became the first female physician at Franklin County Public Hospital and devoted her career to opening doors for women in medicine. We’ll also place their achievements in the broader context of women’s medical leadership across Massachusetts\, from early public health advocacy to groundbreaking nursing education. \nThrough their lives\, we’ll discover how women challenged barriers\, advanced healthcare\, and left a legacy that continues to shape our communities today. This event will be on March 19 at pm. Please register here. \nAbout The Lecture Series and Presenter \nThis virtual lecture is part of the Donald Courtemanche Winter Lecture Series\, co-presented by the Springfield Preservation Trust\, Springfield Museums\, and Springfield City Library\, and generously underwritten by Bob McCarroll. The lecture will be streamed on the Springfield Preservation Trust Facebook Page. \nThe lecture will be presented by Dr. Kate Benson. Dr. Benson is the award-winning author of Hospital Hill and its companion novel\, Shadows in the Ward. She is also the author of Behind the Walls\, a volume on the history of insane asylums in institutions in New England. She is a special education teacher and architectural photographer who leads a lecture series on the history of mental illness and its treatment. She is currently hard at work on a number of asylum projects. She is also the owner of Otherwords Press\, an independent publishing imprint representing authors from all over the world. Kate is a former Springfield Preservation Trust board member and lives in Western Massachusetts with her husband\, her beagle\, and a very feisty cat. \nAbout the Springfield Preservation Trust \nFounded in 1972\, the Springfield Preservation Trust strives to preserve and protect properties in Springfield that have architectural or historic significance. As the only non-profit\, non-government advocacy group for historic preservation in Springfield\, the Trust will continue to be the voice of preservation into the future. To learn more\, visit our website at springfieldpreservation.org. \nPlease register here.
URL:https://springfieldpreservation.org/eventandtour/trailblazers-in-care-women-in-medicine-and-public-health-in-springfield/
CATEGORIES:Virtual Lecture
ATTACH;FMTTYPE=image/png:https://springfieldpreservation.org/wp-content/uploads/2025/12/Screenshot-2025-12-10-at-12-38-38-Trailblazers-in-Care-Women-in-Medicine-and-Public-Health-in-Springfield-Tickets-Thu-Mar-19-2026-at-7-00-PM-Eventbrite.png
END:VEVENT
END:VCALENDAR